BEGIN:VCALENDAR
VERSION:2.0
PRODID:-//Salzburger Bergwanderführer - ECPv6.15.11//NONSGML v1.0//EN
CALSCALE:GREGORIAN
METHOD:PUBLISH
X-WR-CALNAME:Salzburger Bergwanderführer
X-ORIGINAL-URL:https://bergwanderfuehrer-salzburg.com
X-WR-CALDESC:Veranstaltungen für Salzburger Bergwanderführer
REFRESH-INTERVAL;VALUE=DURATION:PT1H
X-Robots-Tag:noindex
X-PUBLISHED-TTL:PT1H
BEGIN:VTIMEZONE
TZID:Europe/Berlin
BEGIN:DAYLIGHT
TZOFFSETFROM:+0100
TZOFFSETTO:+0200
TZNAME:CEST
DTSTART:20250330T010000
END:DAYLIGHT
BEGIN:STANDARD
TZOFFSETFROM:+0200
TZOFFSETTO:+0100
TZNAME:CET
DTSTART:20251026T010000
END:STANDARD
BEGIN:DAYLIGHT
TZOFFSETFROM:+0100
TZOFFSETTO:+0200
TZNAME:CEST
DTSTART:20260329T010000
END:DAYLIGHT
BEGIN:STANDARD
TZOFFSETFROM:+0200
TZOFFSETTO:+0100
TZNAME:CET
DTSTART:20261025T010000
END:STANDARD
BEGIN:DAYLIGHT
TZOFFSETFROM:+0100
TZOFFSETTO:+0200
TZNAME:CEST
DTSTART:20270328T010000
END:DAYLIGHT
BEGIN:STANDARD
TZOFFSETFROM:+0200
TZOFFSETTO:+0100
TZNAME:CET
DTSTART:20271031T010000
END:STANDARD
END:VTIMEZONE
BEGIN:VEVENT
DTSTART;TZID=Europe/Berlin:20260423T083000
DTEND;TZID=Europe/Berlin:20260502T180000
DTSTAMP:20260424T073250
CREATED:20260208T230153Z
LAST-MODIFIED:20260102T190258Z
UID:6557-1776933000-1777744800@bergwanderfuehrer-salzburg.com
SUMMARY:Basiskurs Frühjahr 2026
DESCRIPTION:Frühlingsfortbildung ausschließlich für Mitglieder und JahreshauptversammlungTermin:Sonntag\, 03. Mai 2026 von 08:30 Uhr bis ca. 17 Uhr Ausbildungsschwerpunkt: Naturkunde und erste Hilfe im GeländeOrt:5761 Maria Alm\, Altes Feuerwehrhaus\, Almerau 7Parkmöglichkeiten direkt links vor der Ortseinfahrt nach Maria Alm\, dann zu Fuß links über die Brücke und nach der Brücke wieder links. Nach 200m befindet sich das alte Feuerwehrhaus.Der Kursraum befindet sich im obersten Stockwerk.AnmeldungAnmeldung am Ende dieser Seite möglich. Die Fortbildung ist für Mitglieder kostenlos. Es kann daher ein kostenloses Ticket gekauft werden. Solltest du einen neuen Ausweis benötigen\, vermerke das bitte beim Ticketkauf! Stornoregelung: Bei Abmeldung oder Nichterscheinen gilt: Wenn du den Termin nach Anmeldung nicht wahrnehmen kannst\, bitten wir um eine schriftliche Abmeldung bis spätestens 23. April 2026. Bei nicht fristgerechter Abmeldung oder Nichterscheinen verrechnen wir eine Stornogebühr von € 30\,-! Voraussetzungen:Das pünktliche Erscheinen sowie die aktive Teilnahme am Fortbildungstag ist verpflichtend. Die Anerkennung des Fortbildungstags erfolgt nur bei vollständiger Anwesenheit des Teilnehmers. Zu spät kommende oder frühzeitig abreisende Teilnehmer erhalten keinen Vermerk über die erfolgreiche Teilnahme an der Fortbildung. ACHTUNG: Jedes Mitglied des Salzburger Bergwanderführer Vereins muss verpflichtend alle 3 Jahre einen Fortbildungstag absolvieren\, ansonsten erlischt der Versicherungsschutz! Ausrüstung / Unfallrisiko / DatenschutzAUSRÜSTUNG: Leichte Bekleidung für Unterricht\, wetterfeste Bekleidung für die praktische Ausbildung im Gelände\, Wanderschuhe\, Rucksack\, Erste Hilfe Material\, Biwaksack\, Trinkflasche\, Wanderstöcke\, Schreibzeug\, Markierstift\, Lineal\, Taschenrechner und Bussole (Kompass) Modell:  Suunto MC-2NH Mirror Compass1. Hilfe Material und Biwaksack können am Fortbildungstag erworben werden! UNFALLRISIKO:  Bei allen unseren Lehrgängen ist stets zu beachten\, dass ein Unfall- und Verletzungsrisiko besteht (z.B. durch Sturz\, Absturz\, Steinschlag\, Wettersturz usw).  Dieses alpine Basisrisiko muss jeder Teilnehmer/Teilnehmerin selbst tragen. Von jedem Teilnehmer/Teilnehmerin wird daher ein zumutbares Ausmaß an Eigenverantwortung und Umsichtigkeit vorausgesetzt. Jeder Teilnehmer/Teilnehmerin ist also auch selbst für seine Risikominimierung mitverantwortlich. Darüber hinaus wird eine Unfall/Bergekosten-Versicherung (inkl. Hubschrauberbergung/z.B. Bergrettungsversicherung empfohlen. Jegliche Haftung für Unfälle\, Schäden oder Materialverluste wird vom Salzburger Bergwanderführerverein abgelehnt! DATENSCHUTZ: Die Teilnehmerinnen und Teilnehmer erklären sich bei der Anmeldung einverstanden\, dass im Schulungsgelände und am Veranstaltungsort Fotos und Filmaufnahmen angefertigt und zu Zwecken der Dokumentation und der Bewerbung des BWF-Verbandes in Medien veröffentlich werden können. Sollte eine Teilnehmerin\, oder ein Teilnehmer damit nicht einverstanden sein\, dann ist diese bzw. dieser selbst verantwortlich\, dies entsprechend vor der Veranstaltung klar zu kommunizieren. Kursleitung: Andreas Straßegger\, Verein der Salzburger Bergwanderführer\, E-Mail: verein@bergwanderfuehrer-salzburg.at 								\n				\n					\n		\n					\n		\n				\n						\n					\n			\n						\n				\n					\n	\n\n		\n		\n		\n\n		\n\n\n		\n\n\n\n	Tickets\n\n		\n	\n	\n		Die unten stehende Nummer beinhaltet Tickets für diese Veranstaltung aus dem Warenkorb. Durch einen Klick auf "Tickets kaufen" können vorhandene Teilnehmerinformationen bearbeitet sowie die Ticketsanzahl verändert werden.	\n\n\n		\n		\n		\n	\n		Tickets sind nicht länger verfügbar
URL:https://bergwanderfuehrer-salzburg.com/kurs/basiskurs-fruehjahr-2026/
LOCATION:Altes Feuerwehrhaus\, Almerau 7\, Maria Alm\, Salzburg\, 5761\, Österreich
ATTACH;FMTTYPE=image/png:https://bergwanderfuehrer-salzburg.com/wp-content/uploads/2023/07/basiskurs.png
ORGANIZER;CN="Verein Salzburger Bergwanderf%C3%BChrer":MAILTO:verein@bergwanderfuehrer-salzburg.at
END:VEVENT
END:VCALENDAR